BEGIN:VCALENDAR
VERSION:2.0
PRODID:-//TotalExpo.ru v1.0//EN
BEGIN:VEVENT
DTSTAMP:20260520T120000
DTSTART:20260520T070000Z
DTEND:20260522T140000Z
SUMMARY:BroadcastAsia 2026 (Сингапур, Сингапур)
DESCRIPTION:Международная выставка и конференция цифровых мультимедиа и индустрии развлечений. Ожидаются более 2 000 экспонентов и более 55 000 посетителей.
LOCATION:Singapore Expo (Сингапур, Сингапур)
END:VEVENT
END:VCALENDAR