BEGIN:VCALENDAR
VERSION:2.0
PRODID:-//TotalExpo.ru v1.0//EN
BEGIN:VEVENT
DTSTAMP:20111027T120000
DTSTART:20111027T070000Z
DTEND:20111028T140000Z
SUMMARY:Wine For Asia (WFA) 2011 (Сингапур, Сингапур)
DESCRIPTION:Международная выставка вин для сферы торговли и индустрии гостеприимства. <br/> Специалисты отмечают тенденцию развития рынка - потребление вина в Сингапуре и в Азии в целом, растет. <br/> Wine For Asia является наиболее всеобъемлющей международной выставкой вин в Азии. Выставка привлекает 4000 посетителей из 39 стран мира.
LOCATION:Marina Bay Sands (Сингапур, Сингапур)
END:VEVENT
END:VCALENDAR