BEGIN:VCALENDAR
VERSION:2.0
PRODID:-//TotalExpo.ru v1.0//EN
BEGIN:VEVENT
DTSTAMP:20261207T120000
DTSTART:20261207T070000Z
DTEND:20261210T140000Z
SUMMARY:Здоровый образ жизни 2026 (Москва, Россия)
DESCRIPTION:На выставке будет продемонстрирован весь комплекс товаров и услуг, поддерживающих здоровый образ жизни. <br/> Выставка проходит в рамках международного научно-практического форума «Российская неделя здравоохранения».
LOCATION:МВЦ Крокус Экспо (Россия, Москва)
END:VEVENT
END:VCALENDAR