BEGIN:VCALENDAR
VERSION:2.0
PRODID:-//TotalExpo.ru v1.0//EN
BEGIN:VEVENT
DTSTAMP:20261110T120000
DTSTART:20261110T070000Z
DTEND:20261113T140000Z
SUMMARY:MITEX 2026 (Москва, Россия)
DESCRIPTION:Московская международная выставка инструментов, оборудования, технологий. Это центральное инструментальное событие России.
LOCATION:МВЦ Крокус Экспо (Россия, Москва)
END:VEVENT
END:VCALENDAR