BEGIN:VCALENDAR
VERSION:2.0
PRODID:-//TotalExpo.ru v1.0//EN
BEGIN:VEVENT
DTSTAMP:20220822T120000
DTSTART:20220822T070000Z
DTEND:20220825T140000Z
SUMMARY:АВТОКОМПЛЕКС 2022 (Москва, Россия)
DESCRIPTION:Проект призван продемонстрировать новейшие образцы оборудования, технологий и строительства «под ключ» автозаправочных комплексов и других объектов автосервиса, гаражей, паркингов. Комплексность подхода в обслуживании автовладельцев – доминирующая идея выставки. 
LOCATION:МВЦ Крокус Экспо (Россия, Москва)
END:VEVENT
END:VCALENDAR