BEGIN:VCALENDAR
VERSION:2.0
PRODID:-//TotalExpo.ru v1.0//EN
BEGIN:VEVENT
DTSTAMP:20260928T120000
DTSTART:20260928T070000Z
DTEND:20261001T140000Z
SUMMARY:АГРОПРОДМАШ 2026 (Москва, Россия)
DESCRIPTION:Международная выставка оборудования, машин и ингредиентов для пищевой и перерабатывающей промышленности.
LOCATION:МВЦ Крокус Экспо (Россия, Москва)
END:VEVENT
END:VCALENDAR