BEGIN:VCALENDAR
VERSION:2.0
PRODID:-//TotalExpo.ru v1.0//EN
BEGIN:VEVENT
DTSTAMP:20260916T120000
DTSTART:20260916T070000Z
DTEND:20260918T140000Z
SUMMARY:МИР ДЕТСТВА 2026 (Москва, Россия)
DESCRIPTION:Международная выставка «Товары и услуги для детей и подростков. Новые программы обучения и развития». 
LOCATION:МВЦ Крокус Экспо (Россия, Москва)
END:VEVENT
END:VCALENDAR