BEGIN:VCALENDAR
VERSION:2.0
PRODID:-//TotalExpo.ru v1.0//EN
BEGIN:VEVENT
DTSTAMP:20260618T120000
DTSTART:20260618T070000Z
DTEND:20260619T140000Z
SUMMARY:HR EXPO PRO 2026 (Москва, Россия)
DESCRIPTION:Крупнейшие в России выставка и конференция для специалистов в сфере HR.На площадке соберутся HR-директора, рекрутеры, бизнес-партнёры и поставщики решений для управления людьми. Мероприятие объединяет деловую программу и зону с решениями для рекрутинга, обучения, оценки и развития сотрудников. Участников ждут тематические треки по управлению талантами, корпоративной культуре и трансформации функций HR — от стратегии до операционных практик.
LOCATION:Цифровое деловое пространство (ЦДП) (Россия, Москва)
END:VEVENT
END:VCALENDAR