BEGIN:VCALENDAR
VERSION:2.0
PRODID:-//TotalExpo.ru v1.0//EN
BEGIN:VEVENT
DTSTAMP:20240820T120000
DTSTART:20240820T070000Z
DTEND:20240823T140000Z
SUMMARY:ИНТЕРАВТО 2024 (Москва, Россия)
DESCRIPTION:Одно из самых значимых событий автомобильного рынка России. «Интеравто» – крупнейшая в России экспозиция автокомпонетов, автохимии, тюнинга и автозвука – всего, что «окружает» автомобиль и является его неотъемлемой частью. 
LOCATION:МВЦ Крокус Экспо (Россия, Москва)
END:VEVENT
END:VCALENDAR