BEGIN:VCALENDAR
VERSION:2.0
PRODID:-//TotalExpo.ru v1.0//EN
BEGIN:VEVENT
DTSTAMP:20260421T120000
DTSTART:20260421T070000Z
DTEND:20260424T140000Z
SUMMARY:Дентал-Салон 2026 (Москва, Россия)
DESCRIPTION:Дентал Салон - одна из самых больших и значимых стоматологических выставок в России, объединяющая производителей, дилеров и специалистов стоматологической отрасли. В ней принимают участие более 350 компаний. На выставке будет представлена продукция более чем 1000 производителей. На стендах проводятся сотни образовательных лекций, мастер-классов по всем разделам стоматологии.
LOCATION:МВЦ Крокус Экспо (Россия, Москва)
END:VEVENT
END:VCALENDAR