BEGIN:VCALENDAR
VERSION:2.0
PRODID:-//TotalExpo.ru v1.0//EN
BEGIN:VEVENT
DTSTAMP:20270408T120000
DTSTART:20270408T070000Z
DTEND:20270410T140000Z
SUMMARY:Дом и Сад. Moscow Garden Show 2027 (Москва, Россия)
DESCRIPTION:Цель выставочного проекта – создание делового и информационного пространства для профессионалов и любителей ландшафтного искусства. <br/> Об успешности проекта свидетельствует статистика: одну их прошлых выставок посетили 25 997 человек, 44% из которых составили специалисты.. <br/> Концепция выставки подразумевает комплексный подход к проектированию, озеленению, обустройству и уходу за садом. 
LOCATION:Амбер Плаза, Деловой центр (Россия, Москва)
END:VEVENT
END:VCALENDAR