BEGIN:VCALENDAR
VERSION:2.0
PRODID:-//TotalExpo.ru v1.0//EN
BEGIN:VEVENT
DTSTAMP:20260512T120000
DTSTART:20260512T070000Z
DTEND:20260514T140000Z
SUMMARY:Global Gaming Expo Asia (G2E Asia) 2026 (Макао, Китай)
DESCRIPTION:Международная выставка и конференция игровой индустрии. Демонстрация последних новинок от ведущих производителей. Полный набор игровых продуктов и услуг.
LOCATION:The Venetian Macao - Resort - Hotel (Китай, Макао)
END:VEVENT
END:VCALENDAR