BEGIN:VCALENDAR
VERSION:2.0
PRODID:-//TotalExpo.ru v1.0//EN
BEGIN:VEVENT
DTSTAMP:20260512T120000
DTSTART:20260512T070000Z
DTEND:20260515T140000Z
SUMMARY:МЕТАЛЛООБРАБОТКА 2026 (Москва, Россия)
DESCRIPTION:Международная выставка «Металлообработка» проводится с 1984 года и является крупнейшим проектом в России и СНГ в области станкостроения, предлагая передовые решения для модернизации российского машиностроительного комплекса.
LOCATION:МВЦ Крокус Экспо (Россия, Москва)
END:VEVENT
END:VCALENDAR