BEGIN:VCALENDAR
VERSION:2.0
PRODID:-//TotalExpo.ru v1.0//EN
BEGIN:VEVENT
DTSTAMP:20260902T120000
DTSTART:20260902T070000Z
DTEND:20260904T140000Z
SUMMARY:ASIA FRUIT LOGISTICA 2026 (Гонконг, Китай)
DESCRIPTION:Международная выставка технологий продаж фруктов и овощей в Азии. ASIA FRUIT LOGISTICA ориентирована на производителей овощей и фруктов, оптовых и розничных продавцов, импортеров и экспортеров.
LOCATION:AsiaWorld - Expo (Китай, Гонконг)
END:VEVENT
END:VCALENDAR