BEGIN:VCALENDAR
VERSION:2.0
PRODID:-//TotalExpo.ru v1.0//EN
BEGIN:VEVENT
DTSTAMP:20261013T120000
DTSTART:20261013T070000Z
DTEND:20261016T140000Z
SUMMARY:electronicAsia 2026 (Гонконг, Китай)
DESCRIPTION:Международная выставка электроники. electronicAsia - наиболее значительное мероприятие в области электроники и сопутствующих компонентов в Азии, на котором представлены новейшие технологии, материалы, оборудование и изделия. 
LOCATION:Hong Kong Convention & Exhibition Centre (Китай, Гонконг)
END:VEVENT
END:VCALENDAR