BEGIN:VCALENDAR
VERSION:2.0
PRODID:-//TotalExpo.ru v1.0//EN
BEGIN:VEVENT
DTSTAMP:20261104T120000
DTSTART:20261104T070000Z
DTEND:20261106T140000Z
SUMMARY:Hong Kong Optical Fair 2026 (Гонконг, Китай)
DESCRIPTION:Международная выставка оптики. <br/> В тематике выставки: контактные линзы, оправы, защитные очки, запасные части и принадлежности, спортивная одежда, солнцезащитные очки, оптометрические инструменты, футляры для очков, оборудование и технологии производства, химикаты и материалы, упаковка, услуги и публикации. 
LOCATION:Hong Kong Convention & Exhibition Centre (Китай, Гонконг)
END:VEVENT
END:VCALENDAR