BEGIN:VCALENDAR
VERSION:2.0
PRODID:-//TotalExpo.ru v1.0//EN
BEGIN:VEVENT
DTSTAMP:20260813T120000
DTSTART:20260813T070000Z
DTEND:20260817T140000Z
SUMMARY:Food Expo 2026 (Гонконг, Китай)
DESCRIPTION:Специализированная выставка продовольственной продукции. В рамках Food Expo пройдут развлекательные мероприятия. Кулинарные шоу от шеф-поваров, игры и конкурсы с ценными призами. А также международная выставка чая и международная коференция и выставка модернизации китайской медицины и продуктов лечебного питания. 
LOCATION:Hong Kong Convention & Exhibition Centre (Китай, Гонконг)
END:VEVENT
END:VCALENDAR