BEGIN:VCALENDAR
VERSION:2.0
PRODID:-//TotalExpo.ru v1.0//EN
BEGIN:VEVENT
DTSTAMP:20260715T120000
DTSTART:20260715T070000Z
DTEND:20260721T140000Z
SUMMARY:Hong Kong Book Fair 2026 (Гонконг, Китай)
DESCRIPTION:Книжная выставка Hong Kong Book Fair является одной из крупнейших в своем роде в Азии, привлекая нескольких сотен тысяч любителей книг. В тематике выставки: книги и публикации, детская литература, книги по религии, мультимедиа: электронные книги, аудио-визуальные учебные пособия, программное обеспечение для обучения, канцелярские принадлежности и полиграфическая продукция.
LOCATION:Hong Kong Convention & Exhibition Centre (Китай, Гонконг)
END:VEVENT
END:VCALENDAR