BEGIN:VCALENDAR
VERSION:2.0
PRODID:-//TotalExpo.ru v1.0//EN
BEGIN:VEVENT
DTSTAMP:20260901T120000
DTSTART:20260901T070000Z
DTEND:20260903T140000Z
SUMMARY:Retail Asia Expo 2026 (Гонконг, Китай)
DESCRIPTION:Международная выставка розничной торговли. Многие крупнейшие игроки индустрии соберутся на этой выставке. <br/> Основные разделы выставки: Retail Technology Expo - раздел технологических решений, доступных на розничном рынке, и Retail Design &amp; In-Store Marketing Expo - раздел мерчандайзинга со всеми элементами дизайна магазина и визуального маркетинга.
LOCATION:Hong Kong Convention & Exhibition Centre (Китай, Гонконг)
END:VEVENT
END:VCALENDAR