BEGIN:VCALENDAR
VERSION:2.0
PRODID:-//TotalExpo.ru v1.0//EN
BEGIN:VEVENT
DTSTAMP:20260511T120000
DTSTART:20260511T070000Z
DTEND:20260512T140000Z
SUMMARY:Asia Summit on Global Health 2026 (Гонконг, Китай)
DESCRIPTION:«Азиатский саммит по глобальному здравоохранению»  – ключевое в регионе мероприятие по инновациям и инвестициям в здравоохранении. Это универсальная междисциплинарная платформа, объединяющая все заинтересованные стороны — от политиков до экспертов в области здравоохранения, известных ученых и влиятельных бизнес-лидеров, вместе с ключевыми игроками отрасли, инновационными стартапами и инвесторами со всего мира.
LOCATION:Hong Kong Convention & Exhibition Centre (Китай, Гонконг)
END:VEVENT
END:VCALENDAR