BEGIN:VCALENDAR
VERSION:2.0
PRODID:-//TotalExpo.ru v1.0//EN
BEGIN:VEVENT
DTSTAMP:20260526T120000
DTSTART:20260526T070000Z
DTEND:20260528T140000Z
SUMMARY:Vinexpo Asia 2026 (Гонконг, Китай)
DESCRIPTION:Международная выставка вин и спиртных напитков. Входит в сеть выставок Vinexpo, ведущих свою историю с 1981 года и проходящих в разных странах. Открыта только для специалистов и связанных с данной отраслью предприятий: ресторанов, магазинов, клубов, гостиниц и т.п., а также журналистов. <br/> Основные страны-производители, представленные на выставке: Испания, Италия, Франция, Аргентина, Чили, Южная Африка, США и т.д. Наряду с этим были и другие страны, которые являются новыми для Vinexpo Азиатско-Тихоокеанского региона: Венесуэла, Мексика, Уругвай, Канада, Америки, Швейцария, Македония, Молдавия.
LOCATION:Hong Kong Convention & Exhibition Centre (Китай, Гонконг)
END:VEVENT
END:VCALENDAR