BEGIN:VCALENDAR
VERSION:2.0
PRODID:-//TotalExpo.ru v1.0//EN
BEGIN:VEVENT
DTSTAMP:20260427T120000
DTSTART:20260427T070000Z
DTEND:20260430T140000Z
SUMMARY:Home InStyle 2026 (Гонконг, Китай)
DESCRIPTION:Международная выставка товаров для дома, до 2023 года проходила под названием Hong Kong Houseware Fair. В экспозиции выставки Мир высокой кухни - Премиум зона: барные аксессуары, кухонные и столовые принадлежности.
LOCATION:Hong Kong Convention & Exhibition Centre (Китай, Гонконг)
END:VEVENT
END:VCALENDAR