BEGIN:VCALENDAR
VERSION:2.0
PRODID:-//TotalExpo.ru v1.0//EN
BEGIN:VEVENT
DTSTAMP:20260425T120000
DTSTART:20260425T070000Z
DTEND:20260428T140000Z
SUMMARY:China (Shenzhen) International Gifts, Handicrafts, Watches &amp; Houseware Fair 2026 (Шеньчжень, Китай)
DESCRIPTION:Международная выставка подарков, часов, товаров для дома. В тематике выставки: посуда, керамика, коллекции монет, игрушки, электротехника, канцтовары, искусство и ремесла, текстиль для дома, аксессуары, товары для спорта и отдыха, ювелирные изделия, часы, медицинские препараты и товары для красоты.
LOCATION:Shenzhen World Exhibition & Convention Center (Китай, Шеньчжень)
END:VEVENT
END:VCALENDAR