BEGIN:VCALENDAR
VERSION:2.0
PRODID:-//TotalExpo.ru v1.0//EN
BEGIN:VEVENT
DTSTAMP:20260819T120000
DTSTART:20260819T070000Z
DTEND:20260823T140000Z
SUMMARY:Pet Fair Asia 2026 (Шанхай, Китай)
DESCRIPTION:Международная выставка домашних животных. Выставка привлекает более 300 участников и 8 500 посетителей со всего мира.
LOCATION:Shanghai New International Expo Centre (Китай, Шанхай)
END:VEVENT
END:VCALENDAR