BEGIN:VCALENDAR
VERSION:2.0
PRODID:-//TotalExpo.ru v1.0//EN
BEGIN:VEVENT
DTSTAMP:20260901T120000
DTSTART:20260901T070000Z
DTEND:20260903T140000Z
SUMMARY:MEDTEC China 2026 (Шанхай, Китай)
DESCRIPTION:Международная выставка медицинской техники. Участники выставки предлагают полный комплекс медицинского оборудования: от биоматериалов для электроники, для высокоскоростных станков до технологий обработки пластмасс. <br/> Параллельно с выставкой пройдет форум, на котором будут представлены презентации программ ключевых компаний, частных лиц, университетов и учебных заведений, предлагающих ценные сведения и руководства по медицинской технологии.
LOCATION:Shanghai New International Expo Centre (Китай, Шанхай)
END:VEVENT
END:VCALENDAR