BEGIN:VCALENDAR
VERSION:2.0
PRODID:-//TotalExpo.ru v1.0//EN
BEGIN:VEVENT
DTSTAMP:20260603T120000
DTSTART:20260603T070000Z
DTEND:20260605T140000Z
SUMMARY:CHINA EPOWER 2026 (Шанхай, Китай)
DESCRIPTION:Epower является ведущей профессиональной энергетической выставкой в Китае, охватывающий производство, передачу и распределение энергии, энергетическое строительство, автоматизацию, электроустановочные изделия, тестирование и техническое обслуживание оборудования, энергосбережение, охрану окружающей среды.
LOCATION:Shanghai New International Expo Centre (Китай, Шанхай)
END:VEVENT
END:VCALENDAR