BEGIN:VCALENDAR
VERSION:2.0
PRODID:-//TotalExpo.ru v1.0//EN
BEGIN:VEVENT
DTSTAMP:20261028T120000
DTSTART:20261028T070000Z
DTEND:20261030T140000Z
SUMMARY:Aquatech China 2026 (Шанхай, Китай)
DESCRIPTION:Международная выставка использования водных ресурсов. Более 600 участников представят свою продукцию водоподготовки и водоиспользования. Основной акцент выставки будет сделан на сбережении чистой воды и использовании сточных вод. 
LOCATION:Shanghai New International Expo Centre (Китай, Шанхай)
END:VEVENT
END:VCALENDAR