BEGIN:VCALENDAR
VERSION:2.0
PRODID:-//TotalExpo.ru v1.0//EN
BEGIN:VEVENT
DTSTAMP:20260826T120000
DTSTART:20260826T070000Z
DTEND:20260828T140000Z
SUMMARY:PCIM Asia Shenzhen 2026 (Шеньчжень, Китай)
DESCRIPTION:Международная выставка и конференция по силовой электронике, качеству электроэнергии. PCIM предлагает продукты и услуги из следующих областей: силовые полупроводниковые приборы, пассивные компоненты, датчики, микропроцессоры, блоки питания, ИБП, хранение и распределение энергии, управление, программное обеспечение, оборудование для испытаний и измерений и др. 
LOCATION:Shenzhen World Exhibition & Convention Center (Китай, Шеньчжень)
END:VEVENT
END:VCALENDAR