BEGIN:VCALENDAR
VERSION:2.0
PRODID:-//TotalExpo.ru v1.0//EN
BEGIN:VEVENT
DTSTAMP:20260318T120000
DTSTART:20260318T070000Z
DTEND:20260320T140000Z
SUMMARY:PCHI 2026 (Ханчжоу, Китай)
DESCRIPTION:Специализированная выставка ингредиентов для производства косметических средств, средств личной гигиены и бытовых изделий. <br/> Более 170 международных и местных компаний-участников из почти 20 стран мира представят свои новейшие продукты и услуги для промышленности ведущим покупателям, разработчикам и лабораторным исследователям из 34 стран со всего мира. 
LOCATION:Hangzhou Grand Convention and Exhibition Center (Китай, Ханчжоу)
END:VEVENT
END:VCALENDAR