BEGIN:VCALENDAR
VERSION:2.0
PRODID:-//TotalExpo.ru v1.0//EN
BEGIN:VEVENT
DTSTAMP:20261124T120000
DTSTART:20261124T070000Z
DTEND:20261127T140000Z
SUMMARY:Bauma China 2026 (Шанхай, Китай)
DESCRIPTION:Ведущая международная строительная выставка в Азии. Обзор рынка продуктов, ноу-хау и услуг в строительной отрасли. <br/> Одна из прошедших выставок Bauma China привлекла 113 000 посетителей торговли из разных стран мира. В общей сложности 1608 экспонентов из 30 стран приняли участие в этом мероприятии, продемонстрировав полный спектр строительной техники и строительных материалов  на 210 000 кв. м выставочной площади. 
LOCATION:Shanghai New International Expo Centre (Китай, Шанхай)
END:VEVENT
END:VCALENDAR