BEGIN:VCALENDAR
VERSION:2.0
PRODID:-//TotalExpo.ru v1.0//EN
BEGIN:VEVENT
DTSTAMP:20261012T120000
DTSTART:20261012T070000Z
DTEND:20261016T140000Z
SUMMARY:MWCS - Metalworking and CNC Machine Tool Show 2026 (Шанхай, Китай)
DESCRIPTION:Международная выставка станкосторения, листового металла, труб и их производства, инструментов. <br/> Одновременно пройдут выставки Industrial Automation Show (IAS) - автоматизации производственных процессов, электрических систем, робототехники и промышленной автоматизации, информационных технологий и программного обеспечения, Energy Show (ES)- выставка энергетики. <br/> Три выставки привлекают чем 1025 участников, чтобы продемонстрировать самые современные продукты и технологии металлообработки, станкостроения, автоматизации и энергетических технологий на общей площади 75 000 кв. м более 100 000 посетителей. 
LOCATION:National Exhibition and Convention Center (NEСC) (Китай, Шанхай)
END:VEVENT
END:VCALENDAR