BEGIN:VCALENDAR
VERSION:2.0
PRODID:-//TotalExpo.ru v1.0//EN
BEGIN:VEVENT
DTSTAMP:20261103T120000
DTSTART:20261103T070000Z
DTEND:20261106T140000Z
SUMMARY:CeMAT ASIA 2026 (Шанхай, Китай)
DESCRIPTION:Международная выставка транспортных систем и логистики. Управление грузопотоками, материалы, технологии автоматизации. PTC ASIA и CeMAT ASIA пройдут одновременно. В прошлом году эти выставки совместно посетили 42 933 посетителей-специалистов из 80 стран и регионов. 
LOCATION:Shanghai New International Expo Centre (Китай, Шанхай)
END:VEVENT
END:VCALENDAR