BEGIN:VCALENDAR
VERSION:2.0
PRODID:-//TotalExpo.ru v1.0//EN
BEGIN:VEVENT
DTSTAMP:20260901T120000
DTSTART:20260901T070000Z
DTEND:20260903T140000Z
SUMMARY:Cinte Techtextil China 2026 (Шанхай, Китай)
DESCRIPTION:Международная выставка технического текстиля и нетканых материалов.  <br/> В 2024 году выставка привлекла 467 участников из 13 стран и регионов и более 15000 посетителей из 52 стран и регионов.
LOCATION:Shanghai New International Expo Centre (Китай, Шанхай)
END:VEVENT
END:VCALENDAR