BEGIN:VCALENDAR
VERSION:2.0
PRODID:-//TotalExpo.ru v1.0//EN
BEGIN:VEVENT
DTSTAMP:20261116T120000
DTSTART:20261116T070000Z
DTEND:20261118T140000Z
SUMMARY:ANALYTICA CHINA 2026 (Шанхай, Китай)
DESCRIPTION:Международная выставка лабораторных технологий, анализа, биотехнологий и диагностики. Около 342 экспонентов из 19 стран и 13 146 посетителей представили одну из прошлых выставок ANALYTICA.
LOCATION:Shanghai New International Expo Centre (Китай, Шанхай)
END:VEVENT
END:VCALENDAR