BEGIN:VCALENDAR
VERSION:2.0
PRODID:-//TotalExpo.ru v1.0//EN
BEGIN:VEVENT
DTSTAMP:20261120T120000
DTSTART:20261120T070000Z
DTEND:20261124T140000Z
SUMMARY:ITMA ASIA + CITME 2026 (Шанхай, Китай)
DESCRIPTION:Международная выставка тестильного оборудования. Ожидается около 1 500 участников из 30 стран и регионов и более 90 000 торговых посетителей из всех секторов глобальной текстильной промышленности. 
LOCATION:National Exhibition and Convention Center (NEСC) (Китай, Шанхай)
END:VEVENT
END:VCALENDAR