BEGIN:VCALENDAR
VERSION:2.0
PRODID:-//TotalExpo.ru v1.0//EN
BEGIN:VEVENT
DTSTAMP:20260526T120000
DTSTART:20260526T070000Z
DTEND:20260529T140000Z
SUMMARY:Kitchen &amp; Bath China 2026 (Шанхай, Китай)
DESCRIPTION:Международная выставка кухонь и ванных. Тематика выставки: мебель, отделочные материалы, кухни, сантехника, встраиваемая бытовая техника, электрические бытовые приборы.
LOCATION:Shanghai New International Expo Centre (Китай, Шанхай)
END:VEVENT
END:VCALENDAR