BEGIN:VCALENDAR
VERSION:2.0
PRODID:-//TotalExpo.ru v1.0//EN
BEGIN:VEVENT
DTSTAMP:20260518T120000
DTSTART:20260518T070000Z
DTEND:20260520T140000Z
SUMMARY:SIAL China 2026 (Шанхай, Китай)
DESCRIPTION:SIAL - крупнейшая в Китае и ведущая международная выставка продуктов питания, напитков и индустрии гостеприимства.
LOCATION:Shanghai New International Expo Centre (Китай, Шанхай)
END:VEVENT
END:VCALENDAR