BEGIN:VCALENDAR
VERSION:2.0
PRODID:-//TotalExpo.ru v1.0//EN
BEGIN:VEVENT
DTSTAMP:20260630T120000
DTSTART:20260630T070000Z
DTEND:20260703T140000Z
SUMMARY:DIE &amp; MOULD CHINA 2026 (Шанхай, Китай)
DESCRIPTION:Крупнейшая международная выставка литейной и металлообрабатывающей промышленности. Основные разделы выставки: фрезерные, шлифовальные, сверлильные и др. станки; лазерная обработка; различные виды прессов, машин литья под давлением; режущие инструменты, гравировальные машины и т.д. 
LOCATION:National Exhibition and Convention Center (NEСC) (Китай, Шанхай)
END:VEVENT
END:VCALENDAR