BEGIN:VCALENDAR
VERSION:2.0
PRODID:-//TotalExpo.ru v1.0//EN
BEGIN:VEVENT
DTSTAMP:20260527T120000
DTSTART:20260527T070000Z
DTEND:20260529T140000Z
SUMMARY:DOMOTEX ASIA / CHINAFLOOR 2026 (Шанхай, Китай)
DESCRIPTION:Международная выставка напольных покрытий. Будут представлены различные напольные покрытия: паркет и ламинат, линолеум, деревянный пол, полы для промышленных предприятий. Специальный раздел выставки - ковры ручной работы люксовых брендов. <br/> Выставка растет и развивается: 1100 участников, 42 000 профессиональных посетителей и покупателей. 
LOCATION:National Exhibition and Convention Center (NEСC) (Китай, Шанхай)
END:VEVENT
END:VCALENDAR