BEGIN:VCALENDAR
VERSION:2.0
PRODID:-//TotalExpo.ru v1.0//EN
BEGIN:VEVENT
DTSTAMP:20260915T120000
DTSTART:20260915T070000Z
DTEND:20260917T140000Z
SUMMARY:SIGN CHINA 2026 (Шанхай, Китай)
DESCRIPTION:Китайская международная выставка вывесок и рекламы. Тематика выставки: широкоформатная реклама и рекламные листовки; цифровая реклама, тиснение, акриловые краски; вывески, электронные рекламные щиты; неоновая реклама; светоизлучающие диоды; подарки для рекламных компаний. <br/> Выставка будет проходить одновременно с LED SHOW - выставкой светодиодов. <br/> Вместе 2 выставки будут охватывать 80 000 кв. м выставочной площади и привлекут 1000 участников и более 56 000 посетителей. 
LOCATION:Shanghai New International Expo Centre (Китай, Шанхай)
END:VEVENT
END:VCALENDAR