BEGIN:VCALENDAR
VERSION:2.0
PRODID:-//TotalExpo.ru v1.0//EN
BEGIN:VEVENT
DTSTAMP:20250814T120000
DTSTART:20250814T070000Z
DTEND:20250816T140000Z
SUMMARY:CHINA INTERNATIONAL GIFTS, PREMIUM &amp; HOUSEWARE FAIR 2025 (Пекин, Китай)
DESCRIPTION:Международная выставка подарков и товаров для дома. На выставке будут представлены: искусство и ремесла, керамика, стеклянная посуда, украшения и модные аксессуары, часы, канцелярские принадлежности, игрушки, спортивные товары, товары для отдыха и путешествий, косметика, сумки, кожаные изделия, бытовые товары, текстиль для дома, электроника, товары для кухни, бумажные изделия и упаковка.
LOCATION:China International Exhibition Centre (CIEC) (Китай, Пекин)
END:VEVENT
END:VCALENDAR