BEGIN:VCALENDAR
VERSION:2.0
PRODID:-//TotalExpo.ru v1.0//EN
BEGIN:VEVENT
DTSTAMP:20260526T120000
DTSTART:20260526T070000Z
DTEND:20260529T140000Z
SUMMARY:Форум ЭДО. ЭПД 2026 (Москва, Россия)
DESCRIPTION:Форум объединит экспертов транспортно-логистической сферы, экспертов ЭДО и представителей профильных федеральных органов исполнительной власти для обмена мнениями и позициями по готовности транспортно-логистической сферы к 1 сентября 2026 года. Разберем лучшие практики и предложения по бесперебойному обмену ЭПД со всеми участниками цепочки поставок, чтобы избежать простоев, серых схем и потерь конкурентоспособности.
LOCATION:Солнечный Park Hotel & SPA (Россия, Москва)
END:VEVENT
END:VCALENDAR