BEGIN:VCALENDAR
VERSION:2.0
PRODID:-//TotalExpo.ru v1.0//EN
BEGIN:VEVENT
DTSTAMP:20260617T120000
DTSTART:20260617T070000Z
DTEND:20260618T140000Z
SUMMARY:БухЭкспо 2026 (Москва, Россия)
DESCRIPTION:Мультиформатное событие, объединяющее конференцию, деловой нетворкинг и экспо-зону. Точка пересечения бухгалтерии, бизнеса, технологий и медиа. Выступления на актуальные темы: от изменения в налоговом законодательстве до отраслевого учета, взаимодействия с ФНС и автоматизации. 
LOCATION:Центр Международной Торговли (ЦМТ) (Россия, Москва)
END:VEVENT
END:VCALENDAR