BEGIN:VCALENDAR
VERSION:2.0
PRODID:-//TotalExpo.ru v1.0//EN
BEGIN:VEVENT
DTSTAMP:20260528T120000
DTSTART:20260528T070000Z
DTEND:20260528T140000Z
SUMMARY:ESE EXPO 2026 (Москва, Россия)
DESCRIPTION:В логистике оборудования и спецтехники, как и других нестандартных тяжеловесных и негабаритных грузов, нет универсальных решений — каждый проект требует индивидуального подхода. Особенно актуально это сегодня, когда часть задач кажется почти невыполнимой. Какие технологии помогают отрасли развиваться? Как оптимизировать перевозки, сократить риски и снизить затраты? Эти вопросы обсудят на конференции «ESE EXPO: Простые решения для сложных грузов».
LOCATION:МВЦ Крокус Экспо (Россия, Москва)
END:VEVENT
END:VCALENDAR