BEGIN:VCALENDAR
VERSION:2.0
PRODID:-//TotalExpo.ru v1.0//EN
BEGIN:VEVENT
DTSTAMP:20260423T120000
DTSTART:20260423T070000Z
DTEND:20260423T140000Z
SUMMARY:Технологии Геоскана 2026 (Москва, Россия)
DESCRIPTION:Открытая площадка для диалога об аэрокосмических технологиях: космосе, беспилотниках и инженерно-техническом образовании. Место встречи инженеров, предпринимателей, педагогов, разработчиков, технологических энтузиастов и представителей государства. 
LOCATION:Ломоносов, ИНТЦ (Россия, Москва)
END:VEVENT
END:VCALENDAR