BEGIN:VCALENDAR
VERSION:2.0
PRODID:-//TotalExpo.ru v1.0//EN
BEGIN:VEVENT
DTSTAMP:20260615T120000
DTSTART:20260615T070000Z
DTEND:20260616T140000Z
SUMMARY:Турнир ремесленников по копчению мяса 2026 (Санкт-Петербург, Россия)
DESCRIPTION:Специализированное отраслевое мероприятие, объединяющее владельцев и технологов мясных производств, представителей сегмента HoReCa, фермеров, поставщиков и предпринимателей, заинтересованных в развитии бизнеса в мясной отрасли из России, Казахстана и Беларуси.
LOCATION:Охта Парк (Россия, Санкт-Петербург)
END:VEVENT
END:VCALENDAR