BEGIN:VCALENDAR
VERSION:2.0
PRODID:-//TotalExpo.ru v1.0//EN
BEGIN:VEVENT
DTSTAMP:20260422T120000
DTSTART:20260422T070000Z
DTEND:20260423T140000Z
SUMMARY:Ритейл. Готовая еда 2026 (Москва, Россия)
DESCRIPTION:Конференция про B2B-дистрибуцию готовой еды: как производителю построить отношения с федеральными сетями, региональным ритейлом и HoReCa. Вы получите чек-листы требований от федеральных сетей, расчёты экономики по каждому каналу, контакты тех, кто принимает решения о закупках, и понимание, куда двигаться дальше — в сети, HoReCa или собственную розницу. 
LOCATION:Центр Международной Торговли (ЦМТ) (Россия, Москва)
END:VEVENT
END:VCALENDAR