BEGIN:VCALENDAR
VERSION:2.0
PRODID:-//TotalExpo.ru v1.0//EN
BEGIN:VEVENT
DTSTAMP:20260617T120000
DTSTART:20260617T070000Z
DTEND:20260618T140000Z
SUMMARY:АСМАП 2026 (Москва, Россия)
DESCRIPTION:Международная профессиональная выставка подвижного состава и услуг для международных перевозчиков. Тематика: международные автомобильные перевозки грузов и пассажиров, формирование подвижного состава, логистика и комплекс сопутствующих услуг. Выставка проводится ежегодно и приурочена к Общему собранию членов Ассоциации международных автомобильных перевозчиков (АСМАП).
LOCATION:Гостиница Рэдиссон Славянская (Россия, Москва)
END:VEVENT
END:VCALENDAR