BEGIN:VCALENDAR
VERSION:2.0
PRODID:-//TotalExpo.ru v1.0//EN
BEGIN:VEVENT
DTSTAMP:20260425T120000
DTSTART:20260425T070000Z
DTEND:20260426T140000Z
SUMMARY:Яркий фестиваль 2026 (Санкт-Петербург, Россия)
DESCRIPTION:Встреча фотографов, видеографов, блогеров и всех, кто живёт визуальным контентом. На одной площадке соберутся ведущие бренды фототехники, топовые фотографы и эксперты индустрии.
LOCATION:Design District DAA (Россия, Санкт-Петербург)
END:VEVENT
END:VCALENDAR