BEGIN:VCALENDAR
VERSION:2.0
PRODID:-//TotalExpo.ru v1.0//EN
BEGIN:VEVENT
DTSTAMP:20260423T120000
DTSTART:20260423T070000Z
DTEND:20260424T140000Z
SUMMARY:Южный форум инноваций в девелопменте / ЮФИД 2026 (Алушта, Россия)
DESCRIPTION:Мероприятие ориентировано на девелоперов, архитекторов и инвесторов, стремящихся внедрять современные технологии и подходы в своих проектах. Участие в форуме позволит обменяться опытом, обсудить актуальные тенденции и наладить полезные деловые связи. Это отличная возможность получить знания о новых решениях и инновациях, которые помогут повысить эффективность работы в сфере Девелопмента и улучшить качество городских пространств.
LOCATION:MORE SPA & RESORT (Россия, Алушта)
END:VEVENT
END:VCALENDAR